BEGIN:VCALENDAR
VERSION:2.0
PRODID:-//eventon.com NONSGML v1.0//EN
CALSCALE:GREGORIAN
METHOD:PUBLISH
BEGIN:VEVENT
UID:69e5ee1d68f99
DTSTAMP:20260420T091301Z
DTSTART:20260117T003000Z
DTEND:20260117T020000Z
LOCATION:MYO Frozen Yogurt 840 Broadway Ave
SUMMARY:Fro-Yo + Friends!
DESCRIPTION:The Diversity Center invites you to welcome the New Year togeth
 er! Let’s enjoy MYO Frozen Yogurt while we connect with community! Frozen
  yogurt will be provided. When: Friday\,  January 16\,  2026 @ 4:30 &#8211
 ; 6 PM Where: MYO Frozen Yogurt 840 Broadway Ave\,  Seaside\,  CA 93955 Ag
 es: 11-18 RSVP: Tinyurl.com/FroYoandFriendsRSVP\nhttps://qytf.org/events/
 fro-yo-friends/
URL:https://qytf.org/events/fro-yo-friends/
END:VEVENT
END:VCALENDAR