BEGIN:VCALENDAR
VERSION:2.0
PRODID:-//eventon.com NONSGML v1.0//EN
CALSCALE:GREGORIAN
METHOD:PUBLISH
BEGIN:VEVENT
UID:69e7389ab48f9
DTSTAMP:20260421T084306Z
DTSTART:20251213T020000Z
DTEND:20251213T040000Z
LOCATION:The Diversity Center 1117 Soquel Ave
SUMMARY:Movie Screening: Fentanyl High
DESCRIPTION:Amid rising concerns among families\,  health providers\,  and 
 educators\,  we are partnering with the Santa Cruz County Office of Educati
 on and SafeRx Santa Cruz County to present the film “Fentanyl High\, ” 
 a powerful documentary produced by Kyle Santoro\,  a graduate of Los Gatos 
 High School. Pizza and vegan snacks will[..]\nhttps://qytf.org/events/movie
 -screening-fentanyl-high/
URL:https://qytf.org/events/movie-screening-fentanyl-high/
END:VEVENT
END:VCALENDAR