BEGIN:VCALENDAR
VERSION:2.0
PRODID:-//eventon.com NONSGML v1.0//EN
CALSCALE:GREGORIAN
METHOD:PUBLISH
BEGIN:VEVENT
UID:69e5ee2486400
DTSTAMP:20260420T091308Z
DTSTART:20240615T160000Z
DTEND:20240615T160000Z
LOCATION:
SUMMARY:Pride in Our Parks @ Fort Ord Dunes State Park
DESCRIPTION:The Cal Parks Foundation and Salinas Valley Pride Celebrations 
 are once again partnering to help the native plant life of the Fort Ord Dun
 es! We&#8217;ll pull ice plant\,  plant native foliage\,  and spend a beaut
 iful morning on the dunes overlooking the Monterey Bay! Work gloves and too
 ls will be provided\, [..]\nhttps://qytf.org/events/pride-in-our-parks-fort
 -ord-dunes-state-park/
URL:https://qytf.org/events/pride-in-our-parks-fort-ord-dunes-state-park/
END:VEVENT
END:VCALENDAR