BEGIN:VCALENDAR
VERSION:2.0
PRODID:-//eventon.com NONSGML v1.0//EN
CALSCALE:GREGORIAN
METHOD:PUBLISH
BEGIN:VEVENT
UID:69e6ebe24144d
DTSTAMP:20260421T031546Z
DTSTART:20221215T230000Z
DTEND:20221216T040000Z
LOCATION:
SUMMARY:"Our Gente" Thursday Drop-in Hours @ The Epicenter / Salinas - In Person
DESCRIPTION:Thursdays are our LGBTQ+ specific drop-in hours at The Epicente
 r! If you are or know an LGBTQ+ identifying young person seeking community 
 or support\,  Thursdays are a great opportunity to find it. Hope to see you
  soon!\nhttps://qytf.org/events/our-gente-thursday-drop-in-hours-the-epicen
 ter-salinas-in-person/var/ri-6.l-L1
URL:https://qytf.org/events/our-gente-thursday-drop-in-hours-the-epicenter-salinas-in-person/var/ri-6.l-L1
END:VEVENT
END:VCALENDAR