BEGIN:VCALENDAR
VERSION:2.0
PRODID:-//eventon.com NONSGML v1.0//EN
CALSCALE:GREGORIAN
METHOD:PUBLISH
BEGIN:VEVENT
UID:69e7536618ab7
DTSTAMP:20260421T103726Z
DTSTART:20210711
DTEND:20210712
LOCATION:
SUMMARY:Non-Binary Awareness Day 2021
DESCRIPTION:“International Non-Binary Day 2021: Interviews with three of 
 HRC’s Youth Ambassadors” – HRC “Even though Western cultures ten
 d to reinforce the idea that gender identity and expression are a strict bi
 nary\,  it’s simply not true. Non-binary people have existed for centuri
 es and they show us every day that knowing one’s self and identity is a[
 ..]\nhttps://qytf.org/events/non-binary-awareness-day-2021/
URL:https://qytf.org/events/non-binary-awareness-day-2021/
END:VEVENT
END:VCALENDAR