BEGIN:VCALENDAR
VERSION:2.0
PRODID:-//eventon.com NONSGML v1.0//EN
CALSCALE:GREGORIAN
METHOD:PUBLISH
BEGIN:VEVENT
UID:69e737be1558f
DTSTAMP:20260421T083926Z
DTSTART:20210626
DTEND:20210627
LOCATION:
SUMMARY:24th Annual Queer Youth Leadership Awards
DESCRIPTION:Dear Friend of Queer &amp; Trans Youth\,  The Queer Youth Task
  Force of Santa Cruz County is proud to present an Encore Presentation o
 f the 24th Annual Queer Youth Leadership Awards as part of Santa Cruz &#8
 220;2021 Season of Pride&#8220;Saturday\,  June 26\,  2021 7:00-8:30 pm via
  Streaming at QYLA.org QYLA 2021 Program Booklet Read about all the[..]\nh
 ttps://qytf.org/events/24th-annual-queer-youth-leadership-awards/
URL:https://qytf.org/events/24th-annual-queer-youth-leadership-awards/
END:VEVENT
END:VCALENDAR